BEGIN:VCALENDAR
VERSION:2.0
PRODID:icalendar-ruby
CALSCALE:GREGORIAN
METHOD:PUBLISH
BEGIN:VEVENT
DTSTAMP:20260421T081734Z
UID:614-820517@cornwallpc.ca
DTSTART:20261007T143000Z
DTEND:20261007T153000Z
CLASS:PUBLIC
CREATED:20260420T191601
DESCRIPTION:Bible Study
LAST-MODIFIED:20260420T191601
LOCATION:
SUMMARY:Bible Study
URL;VALUE=URI:https://www.cornwallpc.ca/events/bible-study--614/2026-10-07
END:VEVENT
END:VCALENDAR
