BEGIN:VCALENDAR
VERSION:2.0
PRODID:icalendar-ruby
CALSCALE:GREGORIAN
METHOD:PUBLISH
BEGIN:VEVENT
DTSTAMP:20260419T130909Z
UID:614-815963@cornwallpc.ca
DTSTART:20261028T143000Z
DTEND:20261028T153000Z
CLASS:PUBLIC
CREATED:20260419T063058
DESCRIPTION:Bible Study
LAST-MODIFIED:20260419T063058
LOCATION:
SUMMARY:Bible Study
URL;VALUE=URI:https://www.cornwallpc.ca/events/bible-study--614/2026-10-28
END:VEVENT
END:VCALENDAR
