BEGIN:VCALENDAR
VERSION:2.0
PRODID:icalendar-ruby
CALSCALE:GREGORIAN
METHOD:PUBLISH
BEGIN:VEVENT
DTSTAMP:20260419T132423Z
UID:615-815977@cornwallpc.ca
DTSTART:20260717T224000Z
DTEND:20260717T234000Z
CLASS:PUBLIC
CREATED:20260419T063058
DESCRIPTION:Firehouse Youth Group
LAST-MODIFIED:20260419T063058
LOCATION:
SUMMARY:Firehouse Youth Group
URL;VALUE=URI:https://www.cornwallpc.ca/events/firehouse-youth-group--615/2
 026-07-17
END:VEVENT
END:VCALENDAR
