BEGIN:VCALENDAR
VERSION:2.0
PRODID:icalendar-ruby
CALSCALE:GREGORIAN
METHOD:PUBLISH
BEGIN:VEVENT
DTSTAMP:20260419T160843Z
UID:615-816392@cornwallpc.ca
DTSTART:20260731T224000Z
DTEND:20260731T234000Z
CLASS:PUBLIC
CREATED:20260419T101408
DESCRIPTION:Firehouse Youth Group
LAST-MODIFIED:20260419T101408
LOCATION:
SUMMARY:Firehouse Youth Group
URL;VALUE=URI:https://www.cornwallpc.ca/events/firehouse-youth-group--615/2
 026-07-31
END:VEVENT
END:VCALENDAR
