BEGIN:VCALENDAR
VERSION:2.0
PRODID:icalendar-ruby
CALSCALE:GREGORIAN
METHOD:PUBLISH
BEGIN:VEVENT
DTSTAMP:20260419T201707Z
UID:615-816809@cornwallpc.ca
DTSTART:20260821T224000Z
DTEND:20260821T234000Z
CLASS:PUBLIC
CREATED:20260419T135548
DESCRIPTION:Firehouse Youth Group
LAST-MODIFIED:20260419T135548
LOCATION:
SUMMARY:Firehouse Youth Group
URL;VALUE=URI:https://www.cornwallpc.ca/events/firehouse-youth-group--615/2
 026-08-21
END:VEVENT
END:VCALENDAR
