BEGIN:VCALENDAR
VERSION:2.0
PRODID:icalendar-ruby
CALSCALE:GREGORIAN
METHOD:PUBLISH
BEGIN:VEVENT
DTSTAMP:20260419T213933Z
UID:615-817224@cornwallpc.ca
DTSTART:20260828T224000Z
DTEND:20260828T234000Z
CLASS:PUBLIC
CREATED:20260419T173836
DESCRIPTION:Firehouse Youth Group
LAST-MODIFIED:20260419T173836
LOCATION:
SUMMARY:Firehouse Youth Group
URL;VALUE=URI:https://www.cornwallpc.ca/events/firehouse-youth-group--615/2
 026-08-28
END:VEVENT
END:VCALENDAR
