BEGIN:VCALENDAR
VERSION:2.0
PRODID:icalendar-ruby
CALSCALE:GREGORIAN
METHOD:PUBLISH
BEGIN:VEVENT
DTSTAMP:20260421T092940Z
UID:615-820542@cornwallpc.ca
DTSTART:20260911T224000Z
DTEND:20260911T234000Z
CLASS:PUBLIC
CREATED:20260420T191602
DESCRIPTION:Firehouse Youth Group
LAST-MODIFIED:20260420T191602
LOCATION:
SUMMARY:Firehouse Youth Group
URL;VALUE=URI:https://www.cornwallpc.ca/events/firehouse-youth-group--615/2
 026-09-11
END:VEVENT
END:VCALENDAR
