BEGIN:VCALENDAR
VERSION:2.0
PRODID:icalendar-ruby
CALSCALE:GREGORIAN
METHOD:PUBLISH
BEGIN:VEVENT
DTSTAMP:20260421T120555Z
UID:615-820959@cornwallpc.ca
DTSTART:20260925T224000Z
DTEND:20260925T234000Z
CLASS:PUBLIC
CREATED:20260421T062146
DESCRIPTION:Firehouse Youth Group
LAST-MODIFIED:20260421T062146
LOCATION:
SUMMARY:Firehouse Youth Group
URL;VALUE=URI:https://www.cornwallpc.ca/events/firehouse-youth-group--615/2
 026-09-25
END:VEVENT
END:VCALENDAR
