BEGIN:VCALENDAR
VERSION:2.0
PRODID:icalendar-ruby
CALSCALE:GREGORIAN
METHOD:PUBLISH
BEGIN:VEVENT
DTSTAMP:20260421T132107Z
UID:615-821375@cornwallpc.ca
DTSTART:20261002T224000Z
DTEND:20261002T234000Z
CLASS:PUBLIC
CREATED:20260421T085753
DESCRIPTION:Firehouse Youth Group
LAST-MODIFIED:20260421T085753
LOCATION:
SUMMARY:Firehouse Youth Group
URL;VALUE=URI:https://www.cornwallpc.ca/events/firehouse-youth-group--615/2
 026-10-02
END:VEVENT
END:VCALENDAR
